BEGIN:VCALENDAR
VERSION:2.0
PRODID:-//HeartSpaceOC | Orange County Spiritual Center - ECPv6.15.13//NONSGML v1.0//EN
CALSCALE:GREGORIAN
METHOD:PUBLISH
X-ORIGINAL-URL:https://www.heartspaceoc.com
X-WR-CALDESC:Events for HeartSpaceOC | Orange County Spiritual Center
REFRESH-INTERVAL;VALUE=DURATION:PT1H
X-Robots-Tag:noindex
X-PUBLISHED-TTL:PT1H
BEGIN:VTIMEZONE
TZID:America/Los_Angeles
BEGIN:DAYLIGHT
TZOFFSETFROM:-0800
TZOFFSETTO:-0700
TZNAME:PDT
DTSTART:20250309T100000
END:DAYLIGHT
BEGIN:STANDARD
TZOFFSETFROM:-0700
TZOFFSETTO:-0800
TZNAME:PST
DTSTART:20251102T090000
END:STANDARD
BEGIN:DAYLIGHT
TZOFFSETFROM:-0800
TZOFFSETTO:-0700
TZNAME:PDT
DTSTART:20260308T100000
END:DAYLIGHT
BEGIN:STANDARD
TZOFFSETFROM:-0700
TZOFFSETTO:-0800
TZNAME:PST
DTSTART:20261101T090000
END:STANDARD
BEGIN:DAYLIGHT
TZOFFSETFROM:-0800
TZOFFSETTO:-0700
TZNAME:PDT
DTSTART:20270314T100000
END:DAYLIGHT
BEGIN:STANDARD
TZOFFSETFROM:-0700
TZOFFSETTO:-0800
TZNAME:PST
DTSTART:20271107T090000
END:STANDARD
END:VTIMEZONE
BEGIN:VEVENT
DTSTART;TZID=America/Los_Angeles:20260922T190000
DTEND;TZID=America/Los_Angeles:20260922T203000
DTSTAMP:20260419T193717
CREATED:20260203T190259Z
LAST-MODIFIED:20260203T190259Z
UID:10001641-1790103600-1790109000@www.heartspaceoc.com
SUMMARY:ALL AGES Women’s Support and Empowerment Group
DESCRIPTION:with Paula FitzhenryEvery other Tuesday7:00 – 8:30 pm$ Love Donation \n\n\n\nIn this group we will talk about ourselves\, our lives\, our experiences\, and our goals for the future. Especially our goals for the future! Big\, small\, or ethereal! \n\n\n\nWe will explore topics of life\, spirit\, practices\, and things that make us go huh? 🙂 \n\n\n\nBut\, most of all – we will be getting together as women to have fun and support each other in living “bigger”\, “better”\, more dynamic lives. Whatever that means for you! \n\n\n\nThis is being established as an on-going group for ALL women at EVERY age! This is a drop-in group\, so come to one or come to all – up to you. \n\n\n\nLet’s build community. \n\n\n\nNo registration required. Come to one\, come to all – up to you! : )
URL:https://www.heartspaceoc.com/event/all-ages-womens-support-and-empowerment-group-5/2026-09-22
ATTACH;FMTTYPE=image/jpeg:https://www.heartspaceoc.com/wp-content/uploads/paula-womens-group.jpg
END:VEVENT
END:VCALENDAR