BEGIN:VCALENDAR
VERSION:2.0
PRODID:-//HeartSpaceOC | Orange County Spiritual Center - ECPv6.15.13//NONSGML v1.0//EN
CALSCALE:GREGORIAN
METHOD:PUBLISH
X-WR-CALNAME:HeartSpaceOC | Orange County Spiritual Center
X-ORIGINAL-URL:https://www.heartspaceoc.com
X-WR-CALDESC:Events for HeartSpaceOC | Orange County Spiritual Center
REFRESH-INTERVAL;VALUE=DURATION:PT1H
X-Robots-Tag:noindex
X-PUBLISHED-TTL:PT1H
BEGIN:VTIMEZONE
TZID:America/Los_Angeles
BEGIN:DAYLIGHT
TZOFFSETFROM:-0800
TZOFFSETTO:-0700
TZNAME:PDT
DTSTART:20250309T100000
END:DAYLIGHT
BEGIN:STANDARD
TZOFFSETFROM:-0700
TZOFFSETTO:-0800
TZNAME:PST
DTSTART:20251102T090000
END:STANDARD
BEGIN:DAYLIGHT
TZOFFSETFROM:-0800
TZOFFSETTO:-0700
TZNAME:PDT
DTSTART:20260308T100000
END:DAYLIGHT
BEGIN:STANDARD
TZOFFSETFROM:-0700
TZOFFSETTO:-0800
TZNAME:PST
DTSTART:20261101T090000
END:STANDARD
BEGIN:DAYLIGHT
TZOFFSETFROM:-0800
TZOFFSETTO:-0700
TZNAME:PDT
DTSTART:20270314T100000
END:DAYLIGHT
BEGIN:STANDARD
TZOFFSETFROM:-0700
TZOFFSETTO:-0800
TZNAME:PST
DTSTART:20271107T090000
END:STANDARD
END:VTIMEZONE
BEGIN:VEVENT
DTSTART;TZID=America/Los_Angeles:20260904T180000
DTEND;TZID=America/Los_Angeles:20260904T200000
DTSTAMP:20260419T093346
CREATED:20260404T050359Z
LAST-MODIFIED:20260404T050359Z
UID:10001706-1788544800-1788552000@www.heartspaceoc.com
SUMMARY:Orange County Aero & Friends Group Q & A
DESCRIPTION:with Aero\, Channeled by Janet Whitener  \n\n\n\nOnline with Zoom \n\n\n\nUsually the first Friday of each Month  \n\n\n\nGather for the Orange County Aero and Friends Question and Answer Group Session to ask questions and be uplifted by the wisdom in the answers from Aero.   Aero is a non-physical consciousness\, channeled by Janet Whitener\, who is here to answer our questions and help raise our consciousness.  Janet has channeled Aero for over 25 years.  Bring your questions and hear the high vibration guidance from a different\, joyful\, even humorous perspective. \n\n\n\nJanet is a gifted metaphysician with thirty-five years of experience in sharing messages and information for those willing to ask the questions. Detailed\, precise information is offered with a depth of humor only Spirit can bring. For Janet a near death experience at the age of twenty changed the direction of her life forever. Hear her story and meet those she calls her unseen\, unconditionally loving friends and family. You will be welcome\, you will be touched\, you will be loved! Enjoy an opportunity to lovingly Interact with Spirit! \n\n\n\nInformation brings insight. \n\n\n\nInsight brings opportunity. \n\n\n\nOpportunity to see more of who you really are\,  \n\n\n\nto see\, to perceive this human reality in a new way. \n\n\n\nJoin us\, you will be welcome. \n\n\n\n        ~Aero \n\n\n\n\n\n\nRegister and Pay:
URL:https://www.heartspaceoc.com/event/orange-county-aero-friends-group-q-a-10/2026-09-04
LOCATION:HeartSpaceOC\, 24351 Moulton Pkwy\, Laguna Woods\, CA\, 92637\, United States
ATTACH;FMTTYPE=image/jpeg:https://www.heartspaceoc.com/wp-content/uploads/janet-whitener-e1752344961127.jpg
ORGANIZER;CN="HeartSpaceOC":MAILTO:info@heartspaceoc.com
END:VEVENT
END:VCALENDAR