BEGIN:VCALENDAR
VERSION:2.0
PRODID:-//HeartSpaceOC | Orange County Spiritual Center - ECPv6.15.13//NONSGML v1.0//EN
CALSCALE:GREGORIAN
METHOD:PUBLISH
X-WR-CALNAME:HeartSpaceOC | Orange County Spiritual Center
X-ORIGINAL-URL:https://www.heartspaceoc.com
X-WR-CALDESC:Events for HeartSpaceOC | Orange County Spiritual Center
REFRESH-INTERVAL;VALUE=DURATION:PT1H
X-Robots-Tag:noindex
X-PUBLISHED-TTL:PT1H
BEGIN:VTIMEZONE
TZID:America/Los_Angeles
BEGIN:DAYLIGHT
TZOFFSETFROM:-0800
TZOFFSETTO:-0700
TZNAME:PDT
DTSTART:20250309T100000
END:DAYLIGHT
BEGIN:STANDARD
TZOFFSETFROM:-0700
TZOFFSETTO:-0800
TZNAME:PST
DTSTART:20251102T090000
END:STANDARD
BEGIN:DAYLIGHT
TZOFFSETFROM:-0800
TZOFFSETTO:-0700
TZNAME:PDT
DTSTART:20260308T100000
END:DAYLIGHT
BEGIN:STANDARD
TZOFFSETFROM:-0700
TZOFFSETTO:-0800
TZNAME:PST
DTSTART:20261101T090000
END:STANDARD
BEGIN:DAYLIGHT
TZOFFSETFROM:-0800
TZOFFSETTO:-0700
TZNAME:PDT
DTSTART:20270314T100000
END:DAYLIGHT
BEGIN:STANDARD
TZOFFSETFROM:-0700
TZOFFSETTO:-0800
TZNAME:PST
DTSTART:20271107T090000
END:STANDARD
END:VTIMEZONE
BEGIN:VEVENT
DTSTART;TZID=America/Los_Angeles:20260611T090000
DTEND;TZID=America/Los_Angeles:20260614T060000
DTSTAMP:20260419T160914
CREATED:20260407T174423Z
LAST-MODIFIED:20260407T174423Z
UID:10001712-1781168400-1781416800@www.heartspaceoc.com
SUMMARY:Drunvalo Melchizedek's Awakening the Illuminated Heart Workshop with Phil Laing
DESCRIPTION:The Purpose of this workshop is to give the participant knowledge and tools that will prepare them for the process some call The Ascension or The Great Shift. In this evolutionary jump in human consciousness\, knowledge alone will not allow us to make this jump personally or collectively. One must begin to remember their true nature\, beyond the ego and beyond the illusory world of form. Therefore\, in a step-by-step journey\, we introduce concepts that are then practiced throguh successive\, fun and experiential exercises through one’s feeling self\, not through the intellect of the mind alone. The simple procedures that are followed allow an inner shift to occur that enables vibratory reconnection\, not only to their own heart\, but the heart of Mother Earth and heart of Creation as well. Information will be discussed and shown that explains why we must be in vibrational alignment with the Earth as she makes her Great Shift to a new way of being. Are you ready to experience who you really are? \n\n\n\nCourse topics and benefits: \n\n\n\n\nThe practice for experiencing that you and God are One\n\n\n\nHow to create the human halo\n\n\n\nHow to bring the brain (ego) back in subservience to the heart (spirit)\n\n\n\nGenerating the permanent MerKaBa field from the heart\n\n\n\nUsing dreams and imagery to manifest non-polarized creations\n\n\n\nThe process for opening the 3rd eye\n\n\n\nLearn the powerful Unity Breath Meditation\n\n\n\nThe pineal beams of light and how to activate them\n\n\n\nThe process to move your Spirit to different parts of the body\n\n\n\nA new approach to the MerKaBa\n\n\n\n\nYou will additionally experience: \n\n\n\n\nThe necessity to connect with Mother Earth and Father Sky (God)\n\n\n\nSacred geometry in our spiritual anatomy and its uses in ascension\n\n\n\nThe experience of Divine Love and its ability to heal and forgive totally\n\n\n\nThe MerKaBa: its characteristics\, programming and practical uses\n\n\n\nThe workshop methods and their signs of attainment\n\n\n\nThe nature of illusion and duality and how to transcend it\n\n\n\nConsciousness and how Creation came out of the Void\n\n\n\nDevelopment of subtle energy perception\n\n\n\nSeeing life through the eyes of the heart in daily life\n\n\n\nThe healing of emotional pain and how to do it\n\n\n\nThe role of the tongue in higher consciousness\n\n\n\nThe difference between Mind-based creation and Heart-based creation\n\n\n\nGenerating alpha brain waves and using the internal chakras of the brain\n\n\n\n\nNote: \n\n\n\nPlease bring sacred object(s) for the alter \n\n\n\nSeating limited to 25 persons \n\n\n\nDATE: June 11th – 14th \n\n\n\nTIME: 9AM – 6PM﻿﻿REGISTRATION: Pre-registration required\, registration deadline is June 3rd \n\n\n\nEarly bird registration until May 15: $444 \n\n\n\nAfter May 15: $655 \n\n\n\nCredit Cards via PayPal use https://www.PayPal.Me/donation2revphil \n\n\n\nCONTACT: (530) 386 – 3983   Phil Laing \n\n\n\nLOCATION: 24351 Moulton Pkwy\, Laguna Woods\, CA 92637
URL:https://www.heartspaceoc.com/event/drunvalo-melchizedeks-awakening-the-illuminated-heart-workshop-with-phil-laing
ATTACH;FMTTYPE=image/webp:https://www.heartspaceoc.com/wp-content/uploads/phil-laing-merkaba.webp
END:VEVENT
BEGIN:VEVENT
DTSTART;TZID=America/Los_Angeles:20260611T190000
DTEND;TZID=America/Los_Angeles:20260611T210000
DTSTAMP:20260419T160914
CREATED:20260203T185633Z
LAST-MODIFIED:20260203T185634Z
UID:10001543-1781204400-1781211600@www.heartspaceoc.com
SUMMARY:Personal Development Through Channeling –- Continuing
DESCRIPTION:This is an Online Class with Zoom!  Enjoy in safety from your home. \n\n\n\nWhat you can expect from these classes:  MORE! \n\n\n\nConnect to Higher Self\, discussion and hands on exercises for a variety of methods of channeling\, Attention to personal growth through self-responsibility and self-awareness.  Will work to facilitate your connection to inner guidance and/or unseen friends. Help in finding and releasing emotional blockages created by constrictive emotions of fear\, blame\, judgement\, and pain. Working with a various aspect of self; inner child\, inner adolescent\, inner critic etc. that may be holding a blockage to receiving expanded love. You will be identifying and changing your personal patterns to allow more love\, abundance\, happiness\, peace\, health into your daily life. \n\n\n\nInformation brings insight.Insight brings opportunity.Opportunity to see more of who you really are\, to see\, to perceive this human reality in a new way.Join us\, you will be welcome.Aero \n\n\n\nThis is the Continuing Channeling class for those who have completed the Beginning Personal Development Through Channeling Class. \n\n\n\nReservations or information for Beginning Channeling:  TEXT   Janet    949-547-8204  or for questions call HeartSpace at 949-752-5272.
URL:https://www.heartspaceoc.com/event/personal-development-through-channeling-continuing-2/2026-06-11
LOCATION:HeartSpaceOC\, 24351 Moulton Pkwy\, Laguna Woods\, CA\, 92637\, United States
ATTACH;FMTTYPE=image/jpeg:https://www.heartspaceoc.com/wp-content/uploads/janet-channeling-large-e1752348291213.jpg
ORGANIZER;CN="HeartSpaceOC":MAILTO:info@heartspaceoc.com
END:VEVENT
END:VCALENDAR