BEGIN:VCALENDAR
VERSION:2.0
PRODID:-//HeartSpaceOC | Orange County Spiritual Center - ECPv6.15.13//NONSGML v1.0//EN
CALSCALE:GREGORIAN
METHOD:PUBLISH
X-WR-CALNAME:HeartSpaceOC | Orange County Spiritual Center
X-ORIGINAL-URL:https://www.heartspaceoc.com
X-WR-CALDESC:Events for HeartSpaceOC | Orange County Spiritual Center
REFRESH-INTERVAL;VALUE=DURATION:PT1H
X-Robots-Tag:noindex
X-PUBLISHED-TTL:PT1H
BEGIN:VTIMEZONE
TZID:America/Los_Angeles
BEGIN:DAYLIGHT
TZOFFSETFROM:-0800
TZOFFSETTO:-0700
TZNAME:PDT
DTSTART:20250309T100000
END:DAYLIGHT
BEGIN:STANDARD
TZOFFSETFROM:-0700
TZOFFSETTO:-0800
TZNAME:PST
DTSTART:20251102T090000
END:STANDARD
BEGIN:DAYLIGHT
TZOFFSETFROM:-0800
TZOFFSETTO:-0700
TZNAME:PDT
DTSTART:20260308T100000
END:DAYLIGHT
BEGIN:STANDARD
TZOFFSETFROM:-0700
TZOFFSETTO:-0800
TZNAME:PST
DTSTART:20261101T090000
END:STANDARD
BEGIN:DAYLIGHT
TZOFFSETFROM:-0800
TZOFFSETTO:-0700
TZNAME:PDT
DTSTART:20270314T100000
END:DAYLIGHT
BEGIN:STANDARD
TZOFFSETFROM:-0700
TZOFFSETTO:-0800
TZNAME:PST
DTSTART:20271107T090000
END:STANDARD
END:VTIMEZONE
BEGIN:VEVENT
DTSTART;TZID=America/Los_Angeles:20260508T090000
DTEND;TZID=America/Los_Angeles:20260510T170000
DTSTAMP:20260419T093345
CREATED:20260402T023444Z
LAST-MODIFIED:20260402T023636Z
UID:10001697-1778230800-1778432400@www.heartspaceoc.com
SUMMARY:Theta Healing Workshops with Phil Laing
DESCRIPTION:Theta Healing Workshops with Phil Laing \n\n\n\n“Phil just taught his Theta Healing workshop and it totally rocked. Thank you for an amazing week of love\, expansion and an amazing Theta Healing workshop.” ~ Sara B. \n\n\n\n You can learn to heal with Theta Healing too! Healing and manifesting positive change is a human birthright. You do not need to be born special or gifted to heal since these abilities are inherent in being human. Anyone can learn Theta Healing. \n\n\n\nThere are two distinct workshops: The Basic Theta Healing™ Level and the Advanced Theta Healing™ Level. What is covered in each one is described below. \n\n\n\nBasic DNA Theta Healing™: \n\n\n\nThe Class – You will learn: \n\n\n\nThe Formation of Theta Healing™                The Power of Words and Thoughts \n\n\n\nCellular Communication                                           Electromagnetic Field \n\n\n\nFree Agency Co-creation                                        The Intuitive Abilities \n\n\n\nThe Reading                                                              The Reading with A client \n\n\n\nPrinciples of the Healing                                          The Healing Technique \n\n\n\nCell Talks to Cell                                                       Group Healings \n\n\n\nGroup Healing Exercises                                         Why people Do Not Heal \n\n\n\nBelief Work                                                                Emotions and Health \n\n\n\nBeliefs and How to Change Them                          Programs for Feelings \n\n\n\nKey Beliefs-digging                                                  Guardian Angels \n\n\n\nSoul Mates                                                                 Soul Fragments \n\n\n\nManifesting                                                                Seventh Plane Manifesting \n\n\n\nPrerequisite: None required \n\n\n\nIncludes: Vianna Stibal’s Theta Healing™ Book and Course Manual \n\n\n\nThe Basic DNA workshop introduces Theta Healing™ techniques and focuses on activating the evolving DNA within each participant. The chronos\, or youth an vitality chromosomes is activated\, the telomeres are strengthened to reverse the aging process\, students experience the Unconditional Love of the Creator. \n\n\n\nThe heart of the class is the practice of techniques that allow one to change life patterns held in place at 4 different levels of a person’s being: core\, ancestral\, past life and soul level. This is whether they were self-inflicted or externally imposed. \n\n\n\nThe student will learn to identify their own limiting beliefs as well as practicing pulling them for others in class. \n\n\n\nThis practice can quickly reveal systems of belief that might take traditional psycho-therapy years to uncover showing the body how to replace limiting beliefs or feelings with positive ones. Issues of emotional safety are emphasized as well\, especially when making genetic changes in the body. \n\n\n\nOther topics and exercises I will cover include: learning discernment when working with guides and angels\, an intro to the laws of manifestation\, doing future readings\, balancing serotonin and noradrenaline levels\, how to pull certain heavy metals and radiation soul mates\, waywards and implants\, Seven Planes of Existence\, and the protocols for healing a great variety of conditions and diseases working with God/Source. \n\n\n\nBy the end of the course\, a student is prepared to become a practitioner of Theta Healing and can be listed on the Theta Healing website as such. \n\n\n\nAttend a Workshop With Me: \n\n\n\nIf you feel called to take this workshop with me\, its as easy as contacting me.  Email: p_laing (at) yahoo.com Tel: (530) 386-3983. \n\n\n\nThe cost is $440. 3-day\, in person class\, May 8-10\, 2026. 
URL:https://www.heartspaceoc.com/event/theta-healing-workshops-with-phil-laing
END:VEVENT
END:VCALENDAR